BEGIN:VCALENDAR
VERSION:2.0
PRODID:-//wEsporcie - ECPv6.15.13//NONSGML v1.0//EN
CALSCALE:GREGORIAN
METHOD:PUBLISH
X-WR-CALNAME:wEsporcie
X-ORIGINAL-URL:https://wesporcie.pl
X-WR-CALDESC:Wydarzenia dla wEsporcie
REFRESH-INTERVAL;VALUE=DURATION:PT1H
X-Robots-Tag:noindex
X-PUBLISHED-TTL:PT1H
BEGIN:VTIMEZONE
TZID:Europe/Warsaw
BEGIN:DAYLIGHT
TZOFFSETFROM:+0100
TZOFFSETTO:+0200
TZNAME:CEST
DTSTART:20250330T010000
END:DAYLIGHT
BEGIN:STANDARD
TZOFFSETFROM:+0200
TZOFFSETTO:+0100
TZNAME:CET
DTSTART:20251026T010000
END:STANDARD
BEGIN:DAYLIGHT
TZOFFSETFROM:+0100
TZOFFSETTO:+0200
TZNAME:CEST
DTSTART:20260329T010000
END:DAYLIGHT
BEGIN:STANDARD
TZOFFSETFROM:+0200
TZOFFSETTO:+0100
TZNAME:CET
DTSTART:20261025T010000
END:STANDARD
BEGIN:DAYLIGHT
TZOFFSETFROM:+0100
TZOFFSETTO:+0200
TZNAME:CEST
DTSTART:20270328T010000
END:DAYLIGHT
BEGIN:STANDARD
TZOFFSETFROM:+0200
TZOFFSETTO:+0100
TZNAME:CET
DTSTART:20271031T010000
END:STANDARD
END:VTIMEZONE
BEGIN:VEVENT
DTSTART;VALUE=DATE:20260115
DTEND;VALUE=DATE:20260201
DTSTAMP:20260424T173109
CREATED:20260105T173514Z
LAST-MODIFIED:20260105T173514Z
UID:5019-1768435200-1769903999@wesporcie.pl
SUMMARY:Feather Cup Winter Edition - zapisy
DESCRIPTION:❄️ Feather Cup Winter Edition\nFeather Cup Winter Edition to trzecia edycja rywalizacji dla drużyn gotowych stanąć do walki o solidną pulę nagród. Turniej oferuje 2000 zł w puli\, 32 sloty oraz przystępne wpisowe 50 zł od drużyny. \nZapisy startują 15 stycznia i potrwają do 31 stycznia. \nSzczegóły dotyczące formatu\, harmonogramu oraz zasad zostaną opublikowane na oficjalnym Discordzie Feather Cup.
URL:https://wesporcie.pl/lanwatch/feather-cup-winter-edition-zapisy/
ATTACH;FMTTYPE=image/jpeg:https://wesporcie.pl/wp-content/uploads/2026/01/G927eyzWkAErVzW.jpg
END:VEVENT
END:VCALENDAR